BEGIN:VCALENDAR
VERSION:2.0
BEGIN:VEVENT
DTSTART:20260509T220000Z
DTEND:20260510T020000Z
SUMMARY:OY2 - Orienteer of the Year Event 2
DESCRIPTION:The second event in the 2025 OY series is set for Bastion, Riverlands - and entries are now open.
White, Yellow, Orange and Red courses - a challenge for everyone!

Whether you’re chasing series points or just keen for a great day out, this is a fantastic local event.
Date: Sunday 10 May (Mother's Day)
Start window: 10:00am – 12:00pm
Course closure: 2:00pm
LOCATION:Bastion Farm, Cloudy Bay Drive, Riverlands, Blenheim, Marlborough, New Zealand
END:VEVENT
END:VCALENDAR